BEGIN:VCALENDAR
VERSION:2.0
PRODID:spatie/icalendar-generator
DESCRIPTION:Events from Tofield Gun Club
X-WR-CALDESC:Events from Tofield Gun Club
REFRESH-INTERVAL;VALUE=DURATION:PT1440M
X-PUBLISHED-TTL:PT1440M
BEGIN:VTIMEZONE
TZID:Etc/GMT+0
BEGIN:STANDARD
DTSTART:20250717T193000Z
TZOFFSETFROM:+0000
TZOFFSETTO:+0000
END:STANDARD
END:VTIMEZONE
BEGIN:VTIMEZONE
TZID:UTC
BEGIN:STANDARD
DTSTART:20250726T114517Z
TZOFFSETFROM:+0000
TZOFFSETTO:+0000
END:STANDARD
END:VTIMEZONE
BEGIN:VEVENT
UID:43-12
DTSTAMP:20260422T114517Z
SUMMARY:Monthly Meeting
LOCATION:Indoor Range 4748 53 Ave  Tofield AB
ORGANIZER;CN=admin:MAILTO:admin@tofieldgunclub.ca
DTSTART;TZID=Etc/GMT+0:20260413T193000
DTEND;TZID=Etc/GMT+0:20260413T203000
X-ALT-DESC;FMTTYPE=TEXT/HTML:Indoor range @ 7:30
CATEGORIES:General
URL;VALUE=URI:https://tofieldgunclub.ca/mc-events/monthly-meeting-5/
METHOD:PUBLISH
END:VEVENT
END:VCALENDAR